BEGIN:VCALENDAR
VERSION:2.0
PRODID:-//Espacio Dykinson - ECPv6.15.20//NONSGML v1.0//EN
CALSCALE:GREGORIAN
METHOD:PUBLISH
X-WR-CALNAME:Espacio Dykinson
X-ORIGINAL-URL:https://espacio.betademo.es
X-WR-CALDESC:Eventos para Espacio Dykinson
REFRESH-INTERVAL;VALUE=DURATION:PT1H
X-Robots-Tag:noindex
X-PUBLISHED-TTL:PT1H
BEGIN:VTIMEZONE
TZID:Europe/Madrid
BEGIN:DAYLIGHT
TZOFFSETFROM:+0100
TZOFFSETTO:+0200
TZNAME:CEST
DTSTART:20240331T010000
END:DAYLIGHT
BEGIN:STANDARD
TZOFFSETFROM:+0200
TZOFFSETTO:+0100
TZNAME:CET
DTSTART:20241027T010000
END:STANDARD
BEGIN:DAYLIGHT
TZOFFSETFROM:+0100
TZOFFSETTO:+0200
TZNAME:CEST
DTSTART:20250330T010000
END:DAYLIGHT
BEGIN:STANDARD
TZOFFSETFROM:+0200
TZOFFSETTO:+0100
TZNAME:CET
DTSTART:20251026T010000
END:STANDARD
BEGIN:DAYLIGHT
TZOFFSETFROM:+0100
TZOFFSETTO:+0200
TZNAME:CEST
DTSTART:20260329T010000
END:DAYLIGHT
BEGIN:STANDARD
TZOFFSETFROM:+0200
TZOFFSETTO:+0100
TZNAME:CET
DTSTART:20261025T010000
END:STANDARD
END:VTIMEZONE
BEGIN:VEVENT
DTSTART;TZID=Europe/Madrid:20251126T190000
DTEND;TZID=Europe/Madrid:20251126T203000
DTSTAMP:20260423T135805
CREATED:20251021T135023Z
LAST-MODIFIED:20251023T101148Z
UID:24109-1764183600-1764189000@espacio.betademo.es
SUMMARY:Presentación «Tres liebres dobles»
DESCRIPTION:Sobre la obra: \nHurst Green\, un pequeño pueblo en el campo\, en el valle del río Ribble\, al noroeste de Inglaterra. Un tradicional pub inglés\, “Las tres liebres dobles”. El tabernero\, cuatro amigos\, y las esposas de dos de ellos. Un desafortunado pinchazo en un flamante automóvil todo terreno. El misterio del páramo. La niebla. La sombra del sabueso de los Baskerville…Todo lo anterior combinado con unas cuantas rondas de alcohol –pintas de cerveza bitter\, y un par de botellas de whisky Bell’s–\, la consiguiente exaltación de las amistades\, y algún que otro esteroide suelto\, desatan la euforia alcohólica que lleva a unas personas\, aparentemente sensatas\, a salir de caza furtiva en medio de la noche. \nIntervienen: \n\nVicente Clemente\, licenciado en Derecho\, doctor en Filología y autor de la obra.\n\nComprar libro
URL:https://espacio.betademo.es/actividades/presentacion-tres-liebres-dobles/
LOCATION:Espacio Dykinson\, Calle de Gaztambide\, 21\, Chamberí\, Madrid\, 28015\, Spain
ATTACH;FMTTYPE=image/jpeg:https://espacio.betademo.es/wp-content/uploads/2025/10/WEB-Presentaciones-17.jpg
END:VEVENT
BEGIN:VEVENT
DTSTART;TZID=Europe/Madrid:20251125T190000
DTEND;TZID=Europe/Madrid:20251125T203000
DTSTAMP:20260423T135805
CREATED:20251021T134818Z
LAST-MODIFIED:20251028T043053Z
UID:24106-1764097200-1764102600@espacio.betademo.es
SUMMARY:Presentación «Hablar y ganar»
DESCRIPTION:Sobre la obra: \nEn un mundo repleto de estímulos\, es cada vez más difícil atrapar la atención. La inseguridad\, la falta de autoestima\, la poca claridad son solo los síntomas\, en realidad la raíz del problema es otra: necesitas tomar el control de tu relato. Y eso no se consigue permitiendo que otros hablen por ti o esperando en conseguirlo algún día. Hacerlo sería como pretender que un caballo desbocado se dome solo. Para transmitir tu mensaje con seguridad y liderazgo necesitas tomar las riendas de tu narrativa. No hay otro camino. \nIntervienen: \n\nAna Moreno Marín\, periodista y autora de la obra.
URL:https://espacio.betademo.es/actividades/presentacion-hablar-y-ganar/
LOCATION:Espacio Dykinson\, Calle de Gaztambide\, 21\, Chamberí\, Madrid\, 28015\, Spain
ATTACH;FMTTYPE=image/jpeg:https://espacio.betademo.es/wp-content/uploads/2025/10/WEB-Presentaciones-16.jpg
END:VEVENT
BEGIN:VEVENT
DTSTART;TZID=Europe/Madrid:20251121T190000
DTEND;TZID=Europe/Madrid:20251121T203000
DTSTAMP:20260423T135805
CREATED:20251021T134533Z
LAST-MODIFIED:20251021T134533Z
UID:24103-1763751600-1763757000@espacio.betademo.es
SUMMARY:Presentación «Bárbara Gunz»
DESCRIPTION:Sobre la obra: \nMajer\, sur de España\, 1958. El doctor Mario Suz recibe en su consulta una llamada que cambiará su vida y la de la paciente que tiene delante en esos momentos\, Aurora Montenegro\, cuya obsesión por el doctor y su misterio la hará convertirse en otra persona y romper los lazos trágicos que la atan a una Majer todavía fúnebre y fantasmal de posguerra. Paralelamente\, en el Madrid en guerra de 1936\, Mario Suz es un joven médico del hospital de Carracido que recibe por casualidad el encargo de obtener información sobre los planes del ejército nacional\, que permanecen en manos de un mercenario vienés y de una enigmática mujer de nombre Bárbara Gunz. Rafael Maldonado se sirve de su viejo álter ego\, Guillermo Garcés de Aldana\, para escribir una historia de amor y de guerra en tiempos oscuros. \nIntervienen: \n\nRafael Maldonado\, autor de la obra.\nArmando Zerolo Durán\, periodista.
URL:https://espacio.betademo.es/actividades/presentacion-barbara-gunz/
LOCATION:Espacio Dykinson\, Calle de Gaztambide\, 21\, Chamberí\, Madrid\, 28015\, Spain
ATTACH;FMTTYPE=image/jpeg:https://espacio.betademo.es/wp-content/uploads/2025/10/WEB-Presentaciones-15.jpg
END:VEVENT
BEGIN:VEVENT
DTSTART;TZID=Europe/Madrid:20251120T190000
DTEND;TZID=Europe/Madrid:20251120T203000
DTSTAMP:20260423T135805
CREATED:20251021T134207Z
LAST-MODIFIED:20251021T134207Z
UID:24100-1763665200-1763670600@espacio.betademo.es
SUMMARY:Presentación «Herbario de un mundo desaparecido»
DESCRIPTION:Sobre la obra: \nLa influencia de las plantas desde el origen\, en un día a día ya desparecido\, nos ayuda a entender el pasado\, a vivir el presente y a replantearnos el futuro. Raíz\, hoja\, tallo\, flor y fruto\, son considerados en la actualidad materia prima o decoración. En un pasado cercano\, eran partes esenciales de la vida cotidiana\, con un protagonismo que borró la frontera entre el efecto demostrado y la creencia. Desde un enfoque del folclore etnobotánico\, este herbario ilustrado recoge algunas de las plantas más utilizadas en la península ibérica acercándonos a ese pasado e invitándonos a reflexionar sobre nuestro presente y el futuro. \nIntervienen: \n\nClara Dies Valls\, autora de la obra.
URL:https://espacio.betademo.es/actividades/presentacion-herbario-de-un-mundo-desaparecido/
LOCATION:Espacio Dykinson\, Calle de Gaztambide\, 21\, Chamberí\, Madrid\, 28015\, Spain
ATTACH;FMTTYPE=image/jpeg:https://espacio.betademo.es/wp-content/uploads/2025/10/WEB-Presentaciones-14.jpg
END:VEVENT
BEGIN:VEVENT
DTSTART;TZID=Europe/Madrid:20251113T190000
DTEND;TZID=Europe/Madrid:20251113T203000
DTSTAMP:20260423T135805
CREATED:20251018T115604Z
LAST-MODIFIED:20251028T095930Z
UID:17696-1763060400-1763065800@espacio.betademo.es
SUMMARY:Presentación «Por qué el fútbol»
DESCRIPTION:Sobre la obra: \nUna antología de textos que nos muestran una forma personalísima de vivir y contar el fútbol\, guiada por una sensibilidad humanista que trasciende la mera crónica deportiva. En esta antología\, que reúne sus columnas y otros textos alrededor del balón\, Galder Reguera narra el fútbol como rito de iniciación\, laboratorio moral y lugar donde caben la paternidad\, la salud mental\, los derechos LGTBI+ o la defensa del juego libre en la infancia. Cada texto combina la emoción de la grada con la reflexión del filósofo: historias íntimas\, nostalgia familiar\, identidad compartida y pequeños manifiestos para reivindicar lo que de verdad importa. \nSobre el autor: \n\nGalder Reguera\, autor de la obra\nCarlos Marañón\, periodista y colaborador de As\, Cadena Ser y Movistar +
URL:https://espacio.betademo.es/actividades/presentacion-por-que-el-futbol/
LOCATION:Espacio Dykinson\, Calle de Gaztambide\, 21\, Chamberí\, Madrid\, 28015\, Spain
ATTACH;FMTTYPE=image/jpeg:https://espacio.betademo.es/wp-content/uploads/2025/10/WEB-Presentaciones-13.jpg
END:VEVENT
BEGIN:VEVENT
DTSTART;TZID=Europe/Madrid:20251107T190000
DTEND;TZID=Europe/Madrid:20251107T203000
DTSTAMP:20260423T135805
CREATED:20251018T103014Z
LAST-MODIFIED:20251021T133740Z
UID:17122-1762542000-1762547400@espacio.betademo.es
SUMMARY:Presentación «Las orejas del lobo»
DESCRIPTION:Sobre la obra: \nLa historia de los libros no ha sido nunca una andadura fácil\, sino que se ha visto sujeta a numerosos riesgos y voces amenazantes.\nCuando vemos «las orejas al lobo»\, un peligro merodea alrededor de nosotros. Este ensayo se adentra en los «peligros» que\, desde el mundo antiguo hasta nuestros días\, han acechado a los libros\, escritores\, traductores\, copistas\, editores\, libreros y lectores. Las amenazas y ataques contra la libertad de expresión han condicionado la creatividad e impedido que se pudiera acceder libremente a muchas obras. Por esta razón\, unos libros se escribieron; otros no lo fueron nunca. Detrás campaban a sus anchas los Índices inquisitoriales\, los edictos\, las censuras\, los expurgos y las prohibiciones. También el miedo\, los escondites secretos\, los escritores amenazados\, la autocensura\, las hogueras gigantescas y las librerías y bibliotecas destruidas o asaltadas. \nIntervienen: \n\nJosé Guadalajara\, autor de la obra\n\n 
URL:https://espacio.betademo.es/actividades/presentacion-las-orejas-del-lobo/
LOCATION:Espacio Dykinson\, Calle de Gaztambide\, 21\, Chamberí\, Madrid\, 28015\, Spain
ATTACH;FMTTYPE=image/jpeg:https://espacio.betademo.es/wp-content/uploads/2025/10/WEB-Presentaciones-12.jpg
END:VEVENT
BEGIN:VEVENT
DTSTART;TZID=Europe/Madrid:20251106T190000
DTEND;TZID=Europe/Madrid:20251106T203000
DTSTAMP:20260423T135805
CREATED:20251018T102603Z
LAST-MODIFIED:20251021T133606Z
UID:16875-1762455600-1762461000@espacio.betademo.es
SUMMARY:Presentación «Los Balbo»
DESCRIPTION:Sobre la obra: \nDesde Balbo el Viejo hasta Balbo el Menor\, triunfador con Augusto y constructor de teatros\, pasando por Balbo el Mayor\, amigo de César y cónsul de Roma. ¿Sabías que un gaditano fue el primer cónsul no itálico de Roma?\, ¿y que Cádiz llegó a ser la ciudad más importante del imperio tras su capital? ¿Has oído hablar de alguno de los tres Lucios Cornelios Balbo? ¿Cómo se abrió camino hasta la cima del poder romano una familia de comerciantes de la península ibérica? ¿Qué teatros y acueductos llevan su sello? ¿Por qué se desconoce su historia? \nIntervienen: \n\nFrancisco Uría\, autor de la obra.
URL:https://espacio.betademo.es/actividades/presentacion-los-balbo/
LOCATION:Espacio Dykinson\, Calle de Gaztambide\, 21\, Chamberí\, Madrid\, 28015\, Spain
ATTACH;FMTTYPE=image/jpeg:https://espacio.betademo.es/wp-content/uploads/2025/10/WEB-Presentaciones-11.jpg
END:VEVENT
BEGIN:VEVENT
DTSTART;TZID=Europe/Madrid:20251105T190000
DTEND;TZID=Europe/Madrid:20251105T203000
DTSTAMP:20260423T135805
CREATED:20251017T180111Z
LAST-MODIFIED:20251021T133432Z
UID:15956-1762369200-1762374600@espacio.betademo.es
SUMMARY:Presentación «Soberanos e intervenidos»
DESCRIPTION:Sobre la obra: \nDesde hace varias décadas las grandes potencias vienen sometiendo\, cuando no directamente interviniendo\, a estados independientes mediante mecanismos que se podrían definir suavemente como «globalizadores». Desvelar las estrategias políticas\, económicas y militares de aquellas es la finalidad de este brillante y documentado ensayo\, verdadero alegato a favor de la soberanía y autonomía de los pueblos para decidir su destino\, y del desarrollo de la cultura política como el arma suprema que poseen las comunidades para alcanzar sus objetivos. El libro que desvela los inquietantes planteamientos estratégicos con que el poder contempla a España y a los países americanos. \nIntervienen: \n\nJoan E. Garcés\, autor de la obra\nGuillermo Altares\, jefe de cultura de El País.
URL:https://espacio.betademo.es/actividades/presentacion-soberanos-e-intervenidos/
LOCATION:Espacio Dykinson\, Calle de Gaztambide\, 21\, Chamberí\, Madrid\, 28015\, Spain
ATTACH;FMTTYPE=image/jpeg:https://espacio.betademo.es/wp-content/uploads/2025/10/WEB-Presentaciones-10.jpg
END:VEVENT
BEGIN:VEVENT
DTSTART;TZID=Europe/Madrid:20251030T190000
DTEND;TZID=Europe/Madrid:20251030T203000
DTSTAMP:20260423T135805
CREATED:20251017T174929Z
LAST-MODIFIED:20251021T133307Z
UID:15952-1761850800-1761856200@espacio.betademo.es
SUMMARY:Presentación «El perfume en España»
DESCRIPTION:Sobre la obra: \nEspaña siempre ha sido una nación bellamente perfumada\, un país donde el “buen olor” siempre ha tenido vigencia. Desde sus primitivos ritos sagrados\, con divinidades matriarcales de pechos perforados de los que manaban ricos ungüentos aromáticos de terebinto y ládano hasta forjar una fértil industria perfumera en el noreste peninsular. De Tartessos a Barcelona: una ruta fragante que no da tregua en ninguna etapa histórica. Patria mestiza donde las tradiciones grecorromanas se acomodaron y las árabes se afianzaron. Al-Ándalus\, sin duda\, supuso el germen de la perfumería moderna de Europa. De Castilla\, cum laude en el uso de alambiques y alquitaras\, salieron los recetarios que perfumaron buena parte de las cortes medievales y renacentistas europeas (Francia e Italia incluidas). Aguas olorosas\, ignotas\, que permutaban el clásico óleo por bases alcohólicas inéditas hasta el momento. Incluso encontramos una nueva funcionalidad al perfume: el que “se come”\, finos confites aromáticos de ámbar\, huevo\, azúcar y almizcle\, con esencias de rosa\, azahar o anís; delicatesen de las dinastías regias y medicina para contrarrestar el aliento “letrinero”\, que diría Quevedo. Sobre todo\, España es comarca de rica materia aromática: azahar\, ládano\, anís\, ciprés\, enebro\, espliego\, lavanda\, cítricos\, tomillo\, romero\, rosa\, salvia\, hisopo\, laurel\, manzanilla\, pináceas… Agraciada con varios climas\, azotada por el Cantábrico\, rozada por el Atlántico y besada por el Mediterráneo\, la verdadera esencia de este país que siempre olerá a “colonia”. \nInterviene: \n\nClara Buedo\, autora de la obra\n\n 
URL:https://espacio.betademo.es/actividades/presentacion-el-perfume-en-espana/
LOCATION:Espacio Dykinson\, Calle de Gaztambide\, 21\, Chamberí\, Madrid\, 28015\, Spain
ATTACH;FMTTYPE=image/jpeg:https://espacio.betademo.es/wp-content/uploads/2025/10/WEB-Presentaciones-9.jpg
END:VEVENT
BEGIN:VEVENT
DTSTART;TZID=Europe/Madrid:20251024T190000
DTEND;TZID=Europe/Madrid:20251024T203000
DTSTAMP:20260423T135805
CREATED:20251017T160815Z
LAST-MODIFIED:20251021T133127Z
UID:15946-1761332400-1761337800@espacio.betademo.es
SUMMARY:Presentación «La ilusión del tiempo»
DESCRIPTION:Sobre la obra: \n¿Qué es el tiempo? Pocos temas han fascinado más a científicos\, filósofos e incluso artistas a lo largo de la historia. Siglos después\, la física no tiene aún una respuesta definitiva para esta cuestión; de hecho\, el debate está más vivo que nunca. Sin embargo\, la física actual ha revelado propiedades sorprendentes del tiempo\, aspectos de su naturaleza que chocan frontalmente con nuestro sentido común. \nEn este ensayo iluminador\, el profesor Alberto Casas viaja desde los trabajos de Newton y Einstein a las películas de Christopher Nolan\, pasando por la teoría de la relatividad\, la física cuántica y el concepto de entropía. Este recorrido nos llevará a reflexionar sobre eventos extraordinarios\, como el Big Bang; y sobre otros mucho más corrientes\, como una piedra que cae en un estanque. \nIntervienen: \nAlberto Casas\, doctor en Física Teórica\, profesor de investigación del CSIC en el Instituto de Física Teórica (Madrid) y autor de la obra.
URL:https://espacio.betademo.es/actividades/presentacion-la-ilusion-del-tiempo/
LOCATION:Espacio Dykinson\, Calle de Gaztambide\, 21\, Chamberí\, Madrid\, 28015\, Spain
ATTACH;FMTTYPE=image/jpeg:https://espacio.betademo.es/wp-content/uploads/2025/10/WEB-Presentaciones-8.jpg
END:VEVENT
BEGIN:VEVENT
DTSTART;TZID=Europe/Madrid:20251023T190000
DTEND;TZID=Europe/Madrid:20251023T203000
DTSTAMP:20260423T135805
CREATED:20250527T163939Z
LAST-MODIFIED:20251021T132742Z
UID:990-1761246000-1761251400@espacio.betademo.es
SUMMARY:Presentación de la obra «Convencer o morir»
DESCRIPTION:Sobre la obra: \nUn viaje fascinante a la China antigua para descubrir cómo se forjaron las estrategias de persuasión política más sutiles y peligrosas de la historia. A lo largo de la convulsa historia de China\, los consejeros políticos —figuras de sabiduría y sacrificio— se debatieron entre el arte de la palabra y el riesgo mortal de su oficio. En Convencer o morir\, Juan Luis Conde nos invita a descender a ese fascinante mundo de intrigas cortesanas\, luchas dinásticas y la persistente tensión entre la persuasión y la violencia. En un tiempo en que la retórica política aún resuena en las decisiones de los gobiernos contemporáneos\, este libro traza un puente entre la retórica de ayer y la política de hoy\, proponiendo una lectura tan rica en saber como comprometida con el presente. \nIntervienen: \n\nJuan Luis Conde\, autor de la obra\nHerbert Morote\, dramaturgo
URL:https://espacio.betademo.es/actividades/https-www-dykinson-com-libros-convencer-o-morir-9788410313958/
LOCATION:Espacio Dykinson\, Calle de Gaztambide\, 21\, Chamberí\, Madrid\, 28015\, Spain
ATTACH;FMTTYPE=image/jpeg:https://espacio.betademo.es/wp-content/uploads/2025/05/WEB-Presentaciones-7.jpg
END:VEVENT
END:VCALENDAR